BEGIN:VCALENDAR
VERSION:2.0
PRODID:-//Senior Benefit Connections - ECPv6.15.20//NONSGML v1.0//EN
CALSCALE:GREGORIAN
METHOD:PUBLISH
X-ORIGINAL-URL:https://seniorbenefitconnections.com
X-WR-CALDESC:Events for Senior Benefit Connections
REFRESH-INTERVAL;VALUE=DURATION:PT1H
X-Robots-Tag:noindex
X-PUBLISHED-TTL:PT1H
BEGIN:VTIMEZONE
TZID:UTC
BEGIN:STANDARD
TZOFFSETFROM:+0000
TZOFFSETTO:+0000
TZNAME:UTC
DTSTART:20170101T000000
END:STANDARD
END:VTIMEZONE
BEGIN:VEVENT
DTSTART;TZID=UTC:20180626T180000
DTEND;TZID=UTC:20180626T180000
DTSTAMP:20260425T110441
CREATED:20180607T201717Z
LAST-MODIFIED:20180607T201717Z
UID:1962-1530036000-1530036000@seniorbenefitconnections.com
SUMMARY:Financial Mistakes Almost Everyone Makes... And How To Avoid Them!
DESCRIPTION:
URL:https://seniorbenefitconnections.com/workshop/volatile-and-turbulent-times-financial-mistakes-almost-everyone-makes-and-how-to-avoid-them-2/
LOCATION:LongHorn Steakhouse\, 14127 W Bell Road\, Surprise\, AZ\, 85374\, United States
ORGANIZER;CN="Michael Smith":MAILTO:Mike@BestFinancialWebsite.com
END:VEVENT
BEGIN:VEVENT
DTSTART;TZID=UTC:20180619T180000
DTEND;TZID=UTC:20180619T180000
DTSTAMP:20260425T110441
CREATED:20180607T195554Z
LAST-MODIFIED:20180607T195627Z
UID:1954-1529431200-1529431200@seniorbenefitconnections.com
SUMMARY:Financial Mistakes Almost Everyone Makes... And How To Avoid Them!
DESCRIPTION:
URL:https://seniorbenefitconnections.com/workshop/volatile-and-turbulent-times-financial-mistakes-almost-everyone-makes-and-how-to-avoid-them/
LOCATION:LongHorn Steakhouse\, 14127 W Bell Road\, Surprise\, AZ\, 85374\, United States
ORGANIZER;CN="Michael Smith":MAILTO:Mike@BestFinancialWebsite.com
END:VEVENT
END:VCALENDAR